BEGIN:VCALENDAR
VERSION:2.0
PRODID:-//Rollstuhlclub St. Gallen - ECPv6.10.1.1//NONSGML v1.0//EN
CALSCALE:GREGORIAN
METHOD:PUBLISH
X-WR-CALNAME:Rollstuhlclub St. Gallen
X-ORIGINAL-URL:https://rc-sg.z-digital.ch
X-WR-CALDESC:Veranstaltungen für Rollstuhlclub St. Gallen
REFRESH-INTERVAL;VALUE=DURATION:PT1H
X-Robots-Tag:noindex
X-PUBLISHED-TTL:PT1H
BEGIN:VTIMEZONE
TZID:Europe/Zurich
BEGIN:DAYLIGHT
TZOFFSETFROM:+0100
TZOFFSETTO:+0200
TZNAME:CEST
DTSTART:20240331T010000
END:DAYLIGHT
BEGIN:STANDARD
TZOFFSETFROM:+0200
TZOFFSETTO:+0100
TZNAME:CET
DTSTART:20241027T010000
END:STANDARD
END:VTIMEZONE
BEGIN:VEVENT
DTSTART;TZID=Europe/Zurich:20241217T080000
DTEND;TZID=Europe/Zurich:20241217T170000
DTSTAMP:20260419T220357
CREATED:20241212T154426Z
LAST-MODIFIED:20241212T154426Z
UID:10000002-1734422400-1734454800@rc-sg.z-digital.ch
SUMMARY:Test Curling-Termin
DESCRIPTION:Test Text
URL:https://rc-sg.z-digital.ch/veranstaltung/test-curling-termin/
CATEGORIES:Curling
END:VEVENT
BEGIN:VEVENT
DTSTART;VALUE=DATE:20240907
DTEND;VALUE=DATE:20240909
DTSTAMP:20260419T220357
CREATED:20241213T075612Z
LAST-MODIFIED:20241213T075612Z
UID:10000003-1725667200-1725839999@rc-sg.z-digital.ch
SUMMARY:Clubreise RCSG/RCTG Kempten Allgäu/DE
DESCRIPTION:Liebe Aktivmitglieder \nAuch in diesem Jahr unternehmen wir eine 2-tägige Clubreise. Dieses Mal führt sie uns nach Kempten Allgäu/DE. Am Samstag besichtigen wir die sehenswerte\, historische Stadt Kempten und lassen uns kulinarisch verwöhnen. \nAm Sonntag geniessen wir den Skywalk Allgäu mit der wunderschönen Aussicht. Sehr familienfreundlich. \nReisekosten Erwachsene Fr. 95.00 (Kinder bis 12 Jahre Fr. 80.00) \nIn den Reisekosten sind folgende Leistungen inbegriffen: Fahrt mit dem Reisecar\, 1 Übernachtung im Hotel Art in Kempten\, Nachtessen und Frühstück\, geplante Ausflüge. Getränke und Zwischenverpflegungen werden von den Teilnehmern selbst übernommen. \nBitte informiere mich\, falls du nicht fotografiert werden möchtest bzw falls du nicht möchtest\, dass dein Foto in öffentlichen RC-SG Publikationen verwendet wird. \nFalls jemand spezielle Hilfsmittel (Kempten liegt am Hang: also gute Mukis\, starke Begleitung oder Zuggerät zu empfehlen) mitbringt\, Allergien hat\, im Car nicht transferieren kann oder sonstige Fragen hat\, einfach melden. Weitere Infos für Teilnehmende folgen. Bitte anmelden bis spätestens 2.8.2024 online oder bei Brigitte Huber. \nWir freuen uns auf zahlreiche Anmeldungen und hoffen auf schönes Wetter und interessante Gespräche. Ich freue mich auf euch. \nEuer Kulti Brigitte \n  \nDie Teilnehmer-Anzahl ist beschränkt: De schneller isch de gschwinder
URL:https://rc-sg.z-digital.ch/veranstaltung/clubreise-rcsg-rctg-kempten-allgaeu-de/
CATEGORIES:Clubreise
END:VEVENT
END:VCALENDAR